BEGIN:VCALENDAR
VERSION:2.0
PRODID:-//Swaminarayan Hindu Temple Main - Australia - ECPv4.9.10//NONSGML v1.0//EN
CALSCALE:GREGORIAN
METHOD:PUBLISH
X-WR-CALNAME:Swaminarayan Hindu Temple Main - Australia
X-ORIGINAL-URL:http://swaminarayantemple.org.au
X-WR-CALDESC:Events for Swaminarayan Hindu Temple Main - Australia
BEGIN:VTIMEZONE
TZID:UTC
BEGIN:STANDARD
TZOFFSETFROM:+0000
TZOFFSETTO:+0000
TZNAME:UTC
DTSTART:20190101T000000
END:STANDARD
END:VTIMEZONE
BEGIN:VEVENT
DTSTART;VALUE=DATE:20191019
DTEND;VALUE=DATE:20191022
DTSTAMP:20200227T110805
CREATED:20191019T045223Z
LAST-MODIFIED:20191019T045408Z
UID:1160-1571443200-1571702399@swaminarayantemple.org.au
SUMMARY:Swaminarayan Utsav
DESCRIPTION:Swaminarayan Utsav in Melbourne \n
URL:http://swaminarayantemple.org.au/event/swaminarayan-utsav/
CATEGORIES:Summer
ATTACH;FMTTYPE=image/jpeg:http://swaminarayantemple.org.au/wp-content/uploads/2017/08/acharya-pratistha.jpg
END:VEVENT
END:VCALENDAR