BEGIN:VCALENDAR
VERSION:2.0
PRODID:-//Swaminarayan Hindu Temple Main - Australia - ECPv4.9.10//NONSGML v1.0//EN
CALSCALE:GREGORIAN
METHOD:PUBLISH
X-WR-CALNAME:Swaminarayan Hindu Temple Main - Australia
X-ORIGINAL-URL:http://swaminarayantemple.org.au
X-WR-CALDESC:Events for Swaminarayan Hindu Temple Main - Australia
BEGIN:VTIMEZONE
TZID:UTC
BEGIN:STANDARD
TZOFFSETFROM:+0000
TZOFFSETTO:+0000
TZNAME:UTC
DTSTART:20180101T000000
END:STANDARD
END:VTIMEZONE
BEGIN:VEVENT
DTSTART;TZID=UTC:20181223T160000
DTEND;TZID=UTC:20181223T190000
DTSTAMP:20200227T110057
CREATED:20181208T042022Z
LAST-MODIFIED:20181208T044514Z
UID:1100-1545580800-1545591600@swaminarayantemple.org.au
SUMMARY:Desi Kothi Ice Cream Utsav
DESCRIPTION:Vadtal Dham Shree Swaminarayan Hindu Temple Main Rockbank Melbourne heartily inviting you and your family to join us the Desi Kothi Ice Cream Utsav on 23rd December 2018 from 4pm to 7pm. \nWe have also organises dinner and Raas. Please check below for more information. \nShree Swaminarayan Temple Rockbank Melbourne Utsav \n
URL:http://swaminarayantemple.org.au/event/desi-kothi-ice-cream-utsav/
LOCATION:Vadtal Dham Shree Swaminarayan Hindu Temple\, 27 - 49 Sheahan Road\,\, Rockbank\, Victoria\, 3335\, Australia
CATEGORIES:Summer
ATTACH;FMTTYPE=image/jpeg:http://swaminarayantemple.org.au/wp-content/uploads/2018/12/icecream-3380838_960_720.jpg
ORGANIZER;CN="Vadtal%20Dham%20Shree%20Swaminarayan%20Hindu%20Temple":MAILTO:info@swaminarayantemple.org.au
END:VEVENT
END:VCALENDAR